BEGIN:VCALENDAR
VERSION:2.0
PRODID:-//Vatican peopaik linna s&uuml;dames - ECPv6.15.20//NONSGML v1.0//EN
CALSCALE:GREGORIAN
METHOD:PUBLISH
X-WR-CALNAME:Vatican peopaik linna s&uuml;dames
X-ORIGINAL-URL:https://vatican.ee
X-WR-CALDESC:Events for Vatican peopaik linna s&uuml;dames
REFRESH-INTERVAL;VALUE=DURATION:PT1H
X-Robots-Tag:noindex
X-PUBLISHED-TTL:PT1H
BEGIN:VTIMEZONE
TZID:Europe/Helsinki
BEGIN:DAYLIGHT
TZOFFSETFROM:+0200
TZOFFSETTO:+0300
TZNAME:EEST
DTSTART:20250330T010000
END:DAYLIGHT
BEGIN:STANDARD
TZOFFSETFROM:+0300
TZOFFSETTO:+0200
TZNAME:EET
DTSTART:20251026T010000
END:STANDARD
BEGIN:DAYLIGHT
TZOFFSETFROM:+0200
TZOFFSETTO:+0300
TZNAME:EEST
DTSTART:20260329T010000
END:DAYLIGHT
BEGIN:STANDARD
TZOFFSETFROM:+0300
TZOFFSETTO:+0200
TZNAME:EET
DTSTART:20261025T010000
END:STANDARD
BEGIN:DAYLIGHT
TZOFFSETFROM:+0200
TZOFFSETTO:+0300
TZNAME:EEST
DTSTART:20270328T010000
END:DAYLIGHT
BEGIN:STANDARD
TZOFFSETFROM:+0300
TZOFFSETTO:+0200
TZNAME:EET
DTSTART:20271031T010000
END:STANDARD
END:VTIMEZONE
BEGIN:VEVENT
DTSTART;TZID=Europe/Helsinki:20260424T180000
DTEND;TZID=Europe/Helsinki:20260424T223000
DTSTAMP:20260421T123709
CREATED:20260319T124801Z
LAST-MODIFIED:20260319T124849Z
UID:1905-1777053600-1777069800@vatican.ee
SUMMARY:IMPEERIUM improteater laval koos Ott Sepaga ehk koomiliste sketšide õhtu
DESCRIPTION:
URL:https://vatican.ee/event/impeerium-improteater-laval-koos-ott-sepaga-ehk-koomiliste-sketside-ohtu/
ATTACH;FMTTYPE=image/jpeg:https://vatican.ee/wp-content/uploads/2026/03/Ott-Sepp-2-1.jpg
END:VEVENT
BEGIN:VEVENT
DTSTART;TZID=Europe/Helsinki:20260430T180000
DTEND;TZID=Europe/Helsinki:20260430T223000
DTSTAMP:20260421T123709
CREATED:20260319T125045Z
LAST-MODIFIED:20260319T125045Z
UID:1911-1777572000-1777588200@vatican.ee
SUMMARY:Andres Dvinjaninov "Vanuse 50 varjundit"
DESCRIPTION:
URL:https://vatican.ee/event/andres-dvinjaninov-vanuse-50-varjundit-6/
CATEGORIES:Teatriõhtusöök
ATTACH;FMTTYPE=image/jpeg:https://vatican.ee/wp-content/uploads/2023/08/Dvinjaninov-uus-pilt-scaled.jpg
END:VEVENT
BEGIN:VEVENT
DTSTART;TZID=Europe/Helsinki:20260502T160000
DTEND;TZID=Europe/Helsinki:20260502T203000
DTSTAMP:20260421T123709
CREATED:20260406T092415Z
LAST-MODIFIED:20260406T092415Z
UID:1914-1777737600-1777753800@vatican.ee
SUMMARY:IMPEERIUM improteater laval koos Reigo Tammega ehk koomiliste sketšide õhtu
DESCRIPTION:
URL:https://vatican.ee/event/impeerium-improteater-laval-koos-reigo-tammega-ehk-koomiliste-sketside-ohtu/
ATTACH;FMTTYPE=image/png:https://vatican.ee/wp-content/uploads/2025/10/19.OKTOOBER-2000-6.png
END:VEVENT
BEGIN:VEVENT
DTSTART;TZID=Europe/Helsinki:20260506T180000
DTEND;TZID=Europe/Helsinki:20260506T223000
DTSTAMP:20260421T123709
CREATED:20260319T124001Z
LAST-MODIFIED:20260406T092521Z
UID:1894-1778090400-1778106600@vatican.ee
SUMMARY:Kontsert-õhtusöök: SHANON
DESCRIPTION:
URL:https://vatican.ee/event/kontsert-ohtusook-shanon/
ATTACH;FMTTYPE=image/png:https://vatican.ee/wp-content/uploads/2026/03/SHANON-DUO-2-scaled.png
END:VEVENT
BEGIN:VEVENT
DTSTART;TZID=Europe/Helsinki:20260507T180000
DTEND;TZID=Europe/Helsinki:20260507T223000
DTSTAMP:20260421T123709
CREATED:20260319T124138Z
LAST-MODIFIED:20260406T092557Z
UID:1898-1778176800-1778193000@vatican.ee
SUMMARY:Sepo Seeman "Eesti mees ja tema naine"
DESCRIPTION:
URL:https://vatican.ee/event/sepo-seeman-eesti-mees-ja-tema-naine-4/
ATTACH;FMTTYPE=image/png:https://vatican.ee/wp-content/uploads/2024/11/19.OKTOOBER-2000-5.png
END:VEVENT
END:VCALENDAR