BEGIN:VCALENDAR
VERSION:2.0
PRODID:-//Vatican peopaik linna s&uuml;dames - ECPv6.15.20//NONSGML v1.0//EN
CALSCALE:GREGORIAN
METHOD:PUBLISH
X-WR-CALNAME:Vatican peopaik linna s&uuml;dames
X-ORIGINAL-URL:https://vatican.ee
X-WR-CALDESC:Events for Vatican peopaik linna s&uuml;dames
REFRESH-INTERVAL;VALUE=DURATION:PT1H
X-Robots-Tag:noindex
X-PUBLISHED-TTL:PT1H
BEGIN:VTIMEZONE
TZID:Europe/Helsinki
BEGIN:DAYLIGHT
TZOFFSETFROM:+0200
TZOFFSETTO:+0300
TZNAME:EEST
DTSTART:20230326T010000
END:DAYLIGHT
BEGIN:STANDARD
TZOFFSETFROM:+0300
TZOFFSETTO:+0200
TZNAME:EET
DTSTART:20231029T010000
END:STANDARD
BEGIN:DAYLIGHT
TZOFFSETFROM:+0200
TZOFFSETTO:+0300
TZNAME:EEST
DTSTART:20240331T010000
END:DAYLIGHT
BEGIN:STANDARD
TZOFFSETFROM:+0300
TZOFFSETTO:+0200
TZNAME:EET
DTSTART:20241027T010000
END:STANDARD
BEGIN:DAYLIGHT
TZOFFSETFROM:+0200
TZOFFSETTO:+0300
TZNAME:EEST
DTSTART:20250330T010000
END:DAYLIGHT
BEGIN:STANDARD
TZOFFSETFROM:+0300
TZOFFSETTO:+0200
TZNAME:EET
DTSTART:20251026T010000
END:STANDARD
BEGIN:DAYLIGHT
TZOFFSETFROM:+0200
TZOFFSETTO:+0300
TZNAME:EEST
DTSTART:20260329T010000
END:DAYLIGHT
BEGIN:STANDARD
TZOFFSETFROM:+0300
TZOFFSETTO:+0200
TZNAME:EET
DTSTART:20261025T010000
END:STANDARD
BEGIN:DAYLIGHT
TZOFFSETFROM:+0200
TZOFFSETTO:+0300
TZNAME:EEST
DTSTART:20270328T010000
END:DAYLIGHT
BEGIN:STANDARD
TZOFFSETFROM:+0300
TZOFFSETTO:+0200
TZNAME:EET
DTSTART:20271031T010000
END:STANDARD
END:VTIMEZONE
BEGIN:VEVENT
DTSTART;TZID=Europe/Helsinki:20251231T230000
DTEND;TZID=Europe/Helsinki:20260101T050000
DTSTAMP:20260422T144700
CREATED:20251123T145519Z
LAST-MODIFIED:20251123T145709Z
UID:1689-1767222000-1767243600@vatican.ee
SUMMARY:NYE MASQUERADE BY BOMBOSSA BROTHERS
DESCRIPTION:info@vatican.ee
URL:https://vatican.ee/event/nye-masquerade-by-bombossa-brothers/
CATEGORIES:Ööpidu
ATTACH;FMTTYPE=image/jpeg:https://vatican.ee/wp-content/uploads/2025/11/568681626_1328925991938415_8372762426946691819_n.jpg
END:VEVENT
BEGIN:VEVENT
DTSTART;TZID=Europe/Helsinki:20251031T230000
DTEND;TZID=Europe/Helsinki:20251101T050000
DTSTAMP:20260422T144700
CREATED:20240312T184447Z
LAST-MODIFIED:20250819T091008Z
UID:1400-1761951600-1761973200@vatican.ee
SUMMARY:Linna suurim Halloween - Bombossa Brothers & Friends
DESCRIPTION:Your Content Goes HereYour Content Goes Here
URL:https://vatican.ee/event/bombossa-brothers-friends/
CATEGORIES:Ööpidu
ATTACH;FMTTYPE=image/jpeg:https://vatican.ee/wp-content/uploads/2024/03/BB-pilt.jpg
END:VEVENT
BEGIN:VEVENT
DTSTART;TZID=Europe/Helsinki:20250411T220000
DTEND;TZID=Europe/Helsinki:20250412T040000
DTSTAMP:20260422T144700
CREATED:20240821T210958Z
LAST-MODIFIED:20250323T181330Z
UID:1452-1744408800-1744430400@vatican.ee
SUMMARY:Ennu Ratas
DESCRIPTION:Your Content Goes HereYour Content Goes Here
URL:https://vatican.ee/event/ennu-ratas/
CATEGORIES:Ööpidu
ATTACH;FMTTYPE=image/jpeg:https://vatican.ee/wp-content/uploads/2024/08/ennu-ratas-pilt-scaled.jpg
ORGANIZER;CN="Vatican":MAILTO:janar_kauber@hotmail.com
END:VEVENT
BEGIN:VEVENT
DTSTART;TZID=Europe/Helsinki:20241026T230000
DTEND;TZID=Europe/Helsinki:20241027T050000
DTSTAMP:20260422T144700
CREATED:20240821T211310Z
LAST-MODIFIED:20240821T211310Z
UID:1456-1729983600-1730005200@vatican.ee
SUMMARY:Linna suurim Halloween
DESCRIPTION:Your Content Goes HereYour Content Goes Here
URL:https://vatican.ee/event/linna-suurim-halloween/
CATEGORIES:Ööpidu
ATTACH;FMTTYPE=image/jpeg:https://vatican.ee/wp-content/uploads/2024/08/halloween.jpg
END:VEVENT
BEGIN:VEVENT
DTSTART;TZID=Europe/Helsinki:20240920T223000
DTEND;TZID=Europe/Helsinki:20240921T040000
DTSTAMP:20260422T144700
CREATED:20240916T201715Z
LAST-MODIFIED:20240916T201715Z
UID:1481-1726871400-1726891200@vatican.ee
SUMMARY:Caater feat Mari-Liis
DESCRIPTION:Your Content Goes HereYour Content Goes Here
URL:https://vatican.ee/event/caater-feat-mari-liis/
CATEGORIES:Ööpidu
ATTACH;FMTTYPE=image/png:https://vatican.ee/wp-content/uploads/2024/09/Grey-Elegant-Merry-Christmas-and-Happy-New-Year-Facebook-Post-25.png
END:VEVENT
BEGIN:VEVENT
DTSTART;TZID=Europe/Helsinki:20240913T220000
DTEND;TZID=Europe/Helsinki:20240914T220000
DTSTAMP:20260422T144700
CREATED:20240326T173356Z
LAST-MODIFIED:20240911T194354Z
UID:1422-1726264800-1726351200@vatican.ee
SUMMARY:Disco Tallinn - SANDY RIVERA
DESCRIPTION:Your Content Goes HereYour Content Goes Here
URL:https://vatican.ee/event/disco-tallinn-jarek-kasar-ookontsert/
CATEGORIES:Ööpidu
ATTACH;FMTTYPE=image/png:https://vatican.ee/wp-content/uploads/2024/03/13.09.24_DT_2000x2000px_logota.png
END:VEVENT
END:VCALENDAR