BEGIN:VCALENDAR
VERSION:2.0
PRODID:-//Vatican peopaik linna s&uuml;dames - ECPv6.15.20//NONSGML v1.0//EN
CALSCALE:GREGORIAN
METHOD:PUBLISH
X-WR-CALNAME:Vatican peopaik linna s&uuml;dames
X-ORIGINAL-URL:https://vatican.ee
X-WR-CALDESC:Events for Vatican peopaik linna s&uuml;dames
REFRESH-INTERVAL;VALUE=DURATION:PT1H
X-Robots-Tag:noindex
X-PUBLISHED-TTL:PT1H
BEGIN:VTIMEZONE
TZID:Europe/Helsinki
BEGIN:DAYLIGHT
TZOFFSETFROM:+0200
TZOFFSETTO:+0300
TZNAME:EEST
DTSTART:20230326T010000
END:DAYLIGHT
BEGIN:STANDARD
TZOFFSETFROM:+0300
TZOFFSETTO:+0200
TZNAME:EET
DTSTART:20231029T010000
END:STANDARD
BEGIN:DAYLIGHT
TZOFFSETFROM:+0200
TZOFFSETTO:+0300
TZNAME:EEST
DTSTART:20240331T010000
END:DAYLIGHT
BEGIN:STANDARD
TZOFFSETFROM:+0300
TZOFFSETTO:+0200
TZNAME:EET
DTSTART:20241027T010000
END:STANDARD
BEGIN:DAYLIGHT
TZOFFSETFROM:+0200
TZOFFSETTO:+0300
TZNAME:EEST
DTSTART:20250330T010000
END:DAYLIGHT
BEGIN:STANDARD
TZOFFSETFROM:+0300
TZOFFSETTO:+0200
TZNAME:EET
DTSTART:20251026T010000
END:STANDARD
BEGIN:DAYLIGHT
TZOFFSETFROM:+0200
TZOFFSETTO:+0300
TZNAME:EEST
DTSTART:20260329T010000
END:DAYLIGHT
BEGIN:STANDARD
TZOFFSETFROM:+0300
TZOFFSETTO:+0200
TZNAME:EET
DTSTART:20261025T010000
END:STANDARD
BEGIN:DAYLIGHT
TZOFFSETFROM:+0200
TZOFFSETTO:+0300
TZNAME:EEST
DTSTART:20270328T010000
END:DAYLIGHT
BEGIN:STANDARD
TZOFFSETFROM:+0300
TZOFFSETTO:+0200
TZNAME:EET
DTSTART:20271031T010000
END:STANDARD
END:VTIMEZONE
BEGIN:VTIMEZONE
TZID:UTC
BEGIN:STANDARD
TZOFFSETFROM:+0000
TZOFFSETTO:+0000
TZNAME:UTC
DTSTART:20240101T000000
END:STANDARD
END:VTIMEZONE
BEGIN:VEVENT
DTSTART;TZID=Europe/Helsinki:20260329T160000
DTEND;TZID=Europe/Helsinki:20260329T210000
DTSTAMP:20260422T200744
CREATED:20260211T093049Z
LAST-MODIFIED:20260211T093049Z
UID:1881-1774800000-1774818000@vatican.ee
SUMMARY:Andres Dvinjaninov "Vanuse 50 varjundit"
DESCRIPTION:
URL:https://vatican.ee/event/andres-dvinjaninov-vanuse-50-varjundit-5/
CATEGORIES:Teatriõhtusöök
ATTACH;FMTTYPE=image/jpeg:https://vatican.ee/wp-content/uploads/2023/08/Dvinjaninov-uus-pilt-scaled.jpg
END:VEVENT
BEGIN:VEVENT
DTSTART;TZID=Europe/Helsinki:20260311T180000
DTEND;TZID=Europe/Helsinki:20260311T230000
DTSTAMP:20260422T200744
CREATED:20260301T150224Z
LAST-MODIFIED:20260301T150224Z
UID:1883-1773252000-1773270000@vatican.ee
SUMMARY:Indrek Ojari & Argo Aadli "Agulihärrad"
DESCRIPTION:
URL:https://vatican.ee/event/indrek-ojari-argo-aadli-aguliharrad-2/
CATEGORIES:Teatriõhtusöök
ATTACH;FMTTYPE=image/jpeg:https://vatican.ee/wp-content/uploads/2023/11/Aguliharrad-pilt.jpg
END:VEVENT
BEGIN:VEVENT
DTSTART;TZID=Europe/Helsinki:20260305T180000
DTEND;TZID=Europe/Helsinki:20260305T223000
DTSTAMP:20260422T200744
CREATED:20260204T161605Z
LAST-MODIFIED:20260204T161605Z
UID:1869-1772733600-1772749800@vatican.ee
SUMMARY:Indrek Taalmaa "Lood elust enesest"
DESCRIPTION:
URL:https://vatican.ee/event/indrek-taalmaa-lood-elust-enesest-2/
CATEGORIES:Teatriõhtusöök
ATTACH;FMTTYPE=image/png:https://vatican.ee/wp-content/uploads/2024/10/19.OKTOOBER-2000-1.png
END:VEVENT
BEGIN:VEVENT
DTSTART;TZID=Europe/Helsinki:20260226T180000
DTEND;TZID=Europe/Helsinki:20260226T223000
DTSTAMP:20260422T200744
CREATED:20260125T190706Z
LAST-MODIFIED:20260125T190733Z
UID:1817-1772128800-1772145000@vatican.ee
SUMMARY:Andres Dvinjaninov "Vanuse 50 varjundit"
DESCRIPTION:
URL:https://vatican.ee/event/andres-dvinjaninov-vanuse-50-varjundit-4/
CATEGORIES:Teatriõhtusöök
ATTACH;FMTTYPE=image/jpeg:https://vatican.ee/wp-content/uploads/2023/08/Dvinjaninov-uus-pilt-scaled.jpg
END:VEVENT
BEGIN:VEVENT
DTSTART;TZID=Europe/Helsinki:20260225T180000
DTEND;TZID=Europe/Helsinki:20260225T223000
DTSTAMP:20260422T200744
CREATED:20260210T135541Z
LAST-MODIFIED:20260210T135541Z
UID:1879-1772042400-1772058600@vatican.ee
SUMMARY:Indrek Ojari & Argo Aadli "AGULIHÄRRAD"
DESCRIPTION:
URL:https://vatican.ee/event/indrek-ojari-argo-aadli-aguliharrad/
CATEGORIES:Teatriõhtusöök
ATTACH;FMTTYPE=image/jpeg:https://vatican.ee/wp-content/uploads/2023/12/Aguliharrad-pilt.jpg
END:VEVENT
BEGIN:VEVENT
DTSTART;TZID=Europe/Helsinki:20251230T190000
DTEND;TZID=Europe/Helsinki:20251230T220000
DTSTAMP:20260422T200744
CREATED:20250414T181224Z
LAST-MODIFIED:20251125T144612Z
UID:1616-1767121200-1767132000@vatican.ee
SUMMARY:Ragne Pekarev. Naine\, kes ei mahu kaadrisse.
DESCRIPTION:Your Content Goes HereYour Content Goes Here
URL:https://vatican.ee/event/ragne-pekarev-naine-kes-ei-mahu-kaadrisse/
CATEGORIES:Teatriõhtusöök
ATTACH;FMTTYPE=image/png:https://vatican.ee/wp-content/uploads/2025/04/19.OKTOOBER-2000.png
END:VEVENT
BEGIN:VEVENT
DTSTART;TZID=Europe/Helsinki:20251229T180000
DTEND;TZID=Europe/Helsinki:20251229T230000
DTSTAMP:20260422T200744
CREATED:20251214T183125Z
LAST-MODIFIED:20251214T183125Z
UID:1698-1767031200-1767049200@vatican.ee
SUMMARY:Indrek Taalmaa “Lood elust enesest”
DESCRIPTION:
URL:https://vatican.ee/event/indrek-taalmaa-lood-elust-enesest/
CATEGORIES:Teatriõhtusöök
ATTACH;FMTTYPE=image/png:https://vatican.ee/wp-content/uploads/2024/10/19.OKTOOBER-2000-1.png
END:VEVENT
BEGIN:VEVENT
DTSTART;TZID=Europe/Helsinki:20251216T200000
DTEND;TZID=Europe/Helsinki:20251216T223000
DTSTAMP:20260422T200744
CREATED:20241022T194301Z
LAST-MODIFIED:20251007T190325Z
UID:1497-1765915200-1765924200@vatican.ee
SUMMARY:Indrek Taalmaa "Lood elust enesest"
DESCRIPTION:Your Content Goes HereYour Content Goes Here
URL:https://vatican.ee/event/indrek-taalmaa-parimad-palad/
CATEGORIES:Teatriõhtusöök
ATTACH;FMTTYPE=image/png:https://vatican.ee/wp-content/uploads/2024/10/19.OKTOOBER-2000-1.png
ORGANIZER;CN="Vatican":MAILTO:janar_kauber@hotmail.com
END:VEVENT
BEGIN:VEVENT
DTSTART;TZID=UTC:20251209T200000
DTEND;TZID=UTC:20251209T230000
DTSTAMP:20260422T200744
CREATED:20230821T155506Z
LAST-MODIFIED:20250817T140627Z
UID:1291-1765310400-1765321200@vatican.ee
SUMMARY:Andres Dvinjaninov "Vanuse 50 varjundit"
DESCRIPTION:Broneeri laud info@vatican.ee
URL:https://vatican.ee/event/andres-dvinjaninov-vanuse-50-varjundit/
CATEGORIES:Teatriõhtusöök
ATTACH;FMTTYPE=image/jpeg:https://vatican.ee/wp-content/uploads/2023/08/Dvinjaninov-uus-pilt-scaled.jpg
END:VEVENT
BEGIN:VEVENT
DTSTART;TZID=Europe/Helsinki:20251207T190000
DTEND;TZID=Europe/Helsinki:20251207T220000
DTSTAMP:20260422T200744
CREATED:20251122T150644Z
LAST-MODIFIED:20251122T150644Z
UID:1677-1765134000-1765144800@vatican.ee
SUMMARY:Sepo Seeman ''Eesti mees ja tema poeg''
DESCRIPTION:Broneeri laud: info@vatican.ee
URL:https://vatican.ee/event/sepo-seeman-eesti-mees-ja-tema-poeg-3/
CATEGORIES:Teatriõhtusöök
ATTACH;FMTTYPE=image/png:https://vatican.ee/wp-content/uploads/2024/11/19.OKTOOBER-2000-5.png
END:VEVENT
BEGIN:VEVENT
DTSTART;TZID=Europe/Helsinki:20251130T170000
DTEND;TZID=Europe/Helsinki:20251130T220000
DTSTAMP:20260422T200744
CREATED:20241016T214829Z
LAST-MODIFIED:20250924T210348Z
UID:1495-1764522000-1764540000@vatican.ee
SUMMARY:"Agulihärrad" Indrek Ojari ja Argo Aadli
DESCRIPTION:Your Content Goes HereYour Content Goes Here
URL:https://vatican.ee/event/aguliharrad/
CATEGORIES:Teatriõhtusöök
ATTACH;FMTTYPE=image/jpeg:https://vatican.ee/wp-content/uploads/2023/12/Aguliharrad-pilt.jpg
END:VEVENT
BEGIN:VEVENT
DTSTART;TZID=Europe/Helsinki:20251129T200000
DTEND;TZID=Europe/Helsinki:20251129T220000
DTSTAMP:20260422T200744
CREATED:20251001T193619Z
LAST-MODIFIED:20251001T193619Z
UID:1659-1764446400-1764453600@vatican.ee
SUMMARY:Reigo Tamm ja Improteater Impeerium
DESCRIPTION:Your Content Goes HereYour Content Goes Here
URL:https://vatican.ee/event/reigo-tamm-ja-improteater-impeerium/
CATEGORIES:Teatriõhtusöök
ATTACH;FMTTYPE=image/png:https://vatican.ee/wp-content/uploads/2025/10/19.OKTOOBER-2000-6.png
END:VEVENT
BEGIN:VEVENT
DTSTART;TZID=Europe/Helsinki:20251121T200000
DTEND;TZID=Europe/Helsinki:20251121T220000
DTSTAMP:20260422T200744
CREATED:20231114T150818Z
LAST-MODIFIED:20251015T173646Z
UID:1338-1763755200-1763762400@vatican.ee
SUMMARY:Täna õhtul... Peeter Oja!
DESCRIPTION:Your Content Goes HereYour Content Goes Here
URL:https://vatican.ee/event/tana-ohtul-peeter-oja/
CATEGORIES:Teatriõhtusöök
ATTACH;FMTTYPE=image/jpeg:https://vatican.ee/wp-content/uploads/2023/11/Peeter-Oja.jpg
END:VEVENT
BEGIN:VEVENT
DTSTART;TZID=UTC:20251114T200000
DTEND;TZID=UTC:20251114T230000
DTSTAMP:20260422T200744
CREATED:20231107T171509Z
LAST-MODIFIED:20251006T212906Z
UID:1321-1763150400-1763161200@vatican.ee
SUMMARY:"Alasti Palmiste"
DESCRIPTION:Your Content Goes HereYour Content Goes Here
URL:https://vatican.ee/event/alasti-palmiste/
CATEGORIES:Teatriõhtusöök
ATTACH;FMTTYPE=image/png:https://vatican.ee/wp-content/uploads/2023/11/Merle-Palmiste-post.png
END:VEVENT
BEGIN:VEVENT
DTSTART;TZID=Europe/Helsinki:20251112T193000
DTEND;TZID=Europe/Helsinki:20251112T220000
DTSTAMP:20260422T200744
CREATED:20241202T144942Z
LAST-MODIFIED:20250908T173951Z
UID:1527-1762975800-1762984800@vatican.ee
SUMMARY:"Müstiline naistekas" Kirsti Timmer & Merily Timmer
DESCRIPTION:Your Content Goes HereYour Content Goes Here
URL:https://vatican.ee/event/mustiline-naistekas-kirsti-timmer-merily-timmer-2/
CATEGORIES:Teatriõhtusöök
END:VEVENT
BEGIN:VEVENT
DTSTART;TZID=Europe/Helsinki:20251109T170000
DTEND;TZID=Europe/Helsinki:20251109T220000
DTSTAMP:20260422T200744
CREATED:20241228T102649Z
LAST-MODIFIED:20251007T190156Z
UID:1541-1762707600-1762725600@vatican.ee
SUMMARY:Isadepäev! Sepo Seeman "Eesti mees ja tema poeg"
DESCRIPTION:Your Content Goes HereYour Content Goes Here
URL:https://vatican.ee/event/sepo-seeman-eesti-mees-ja-tema-naine-3/
CATEGORIES:Teatriõhtusöök
ATTACH;FMTTYPE=image/png:https://vatican.ee/wp-content/uploads/2024/11/19.OKTOOBER-2000-5.png
END:VEVENT
BEGIN:VEVENT
DTSTART;TZID=UTC:20251105T200000
DTEND;TZID=UTC:20251105T220000
DTSTAMP:20260422T200744
CREATED:20231107T172122Z
LAST-MODIFIED:20250908T174245Z
UID:1327-1762372800-1762380000@vatican.ee
SUMMARY:"Sinised kilesussid jalas" Indrek Taalmaa
DESCRIPTION:Your Content Goes HereYour Content Goes Here
URL:https://vatican.ee/event/oranzid-tropid-korvas-indrek-taalmaa/
CATEGORIES:Teatriõhtusöök
ATTACH;FMTTYPE=image/jpeg:https://vatican.ee/wp-content/uploads/2023/11/Indrek-taalmaa-pilt.jpg
END:VEVENT
BEGIN:VEVENT
DTSTART;TZID=Europe/Helsinki:20251029T200000
DTEND;TZID=Europe/Helsinki:20251029T223000
DTSTAMP:20260422T200744
CREATED:20240318T213242Z
LAST-MODIFIED:20250817T140439Z
UID:1412-1761768000-1761777000@vatican.ee
SUMMARY:"Vanuse 50 varjundit" Andres Dvinjaninov
DESCRIPTION:Your Content Goes HereYour Content Goes Here
URL:https://vatican.ee/event/vanuse-50-varjundit-andres-dvinjaninov-2/
CATEGORIES:Teatriõhtusöök
ATTACH;FMTTYPE=image/jpeg:https://vatican.ee/wp-content/uploads/2023/08/Dvinjaninov-uus-pilt-scaled.jpg
END:VEVENT
BEGIN:VEVENT
DTSTART;TZID=Europe/Helsinki:20251028T190000
DTEND;TZID=Europe/Helsinki:20251028T220000
DTSTAMP:20260422T200744
CREATED:20250926T082305Z
LAST-MODIFIED:20250926T082305Z
UID:1653-1761678000-1761688800@vatican.ee
SUMMARY:Lisaetendus. Ragne Pekarev - Naine\, kes ei mahu kaadrisse
DESCRIPTION:Your Content Goes HereYour Content Goes Here
URL:https://vatican.ee/event/lisaetendus-ragne-pekarev-naine-kes-ei-mahu-kaadrisse/
CATEGORIES:Teatriõhtusöök
ATTACH;FMTTYPE=image/png:https://vatican.ee/wp-content/uploads/2025/04/19.OKTOOBER-2000.png
END:VEVENT
BEGIN:VEVENT
DTSTART;TZID=Europe/Helsinki:20251023T190000
DTEND;TZID=Europe/Helsinki:20251023T220000
DTSTAMP:20260422T200744
CREATED:20250218T182114Z
LAST-MODIFIED:20251001T193733Z
UID:1602-1761246000-1761256800@vatican.ee
SUMMARY:Ants Rootslane "Ellujäämise meistriklass"
DESCRIPTION:Your Content Goes HereYour Content Goes Here
URL:https://vatican.ee/event/aitab-draamast-inga-lunge-heiki-kohal/
CATEGORIES:Teatriõhtusöök
END:VEVENT
BEGIN:VEVENT
DTSTART;TZID=Europe/Helsinki:20251017T200000
DTEND;TZID=Europe/Helsinki:20251017T230000
DTSTAMP:20260422T200744
CREATED:20241106T180259Z
LAST-MODIFIED:20250915T181447Z
UID:1512-1760731200-1760742000@vatican.ee
SUMMARY:Sepo Seeman "Eesti mees ja tema naine"
DESCRIPTION:Your Content Goes HereYour Content Goes Here
URL:https://vatican.ee/event/sepo-seeman-eesti-mees-ja-tema-naine-2/
CATEGORIES:Teatriõhtusöök
ATTACH;FMTTYPE=image/png:https://vatican.ee/wp-content/uploads/2024/11/19.OKTOOBER-2000-5.png
END:VEVENT
BEGIN:VEVENT
DTSTART;TZID=Europe/Helsinki:20251003T190000
DTEND;TZID=Europe/Helsinki:20251003T220000
DTSTAMP:20260422T200744
CREATED:20250414T181329Z
LAST-MODIFIED:20250926T082137Z
UID:1620-1759518000-1759528800@vatican.ee
SUMMARY:Välja müüdud! Ragne Pekarev. Naine\, kes ei mahu kaadrisse.
DESCRIPTION:Your Content Goes HereYour Content Goes Here
URL:https://vatican.ee/event/ragne-pekarev-naine-kes-ei-mahu-kaadrisse-2/
CATEGORIES:Teatriõhtusöök
ATTACH;FMTTYPE=image/png:https://vatican.ee/wp-content/uploads/2025/04/19.OKTOOBER-2000.png
END:VEVENT
BEGIN:VEVENT
DTSTART;TZID=Europe/Helsinki:20250926T200000
DTEND;TZID=Europe/Helsinki:20250926T223000
DTSTAMP:20260422T200744
CREATED:20240911T195201Z
LAST-MODIFIED:20250805T190409Z
UID:1477-1758916800-1758925800@vatican.ee
SUMMARY:"Vanuse 50 varjundit" Andres Dvinjaninov
DESCRIPTION:Your Content Goes HereYour Content Goes Here
URL:https://vatican.ee/event/vanuse-50-varjundit-andres-dvinjaninov-3/
CATEGORIES:Teatriõhtusöök
ATTACH;FMTTYPE=image/png:https://vatican.ee/wp-content/uploads/2024/09/Nimetu-kujundus-3.png
END:VEVENT
BEGIN:VEVENT
DTSTART;TZID=Europe/Helsinki:20250423T200000
DTEND;TZID=Europe/Helsinki:20250423T220000
DTSTAMP:20260422T200744
CREATED:20231210T191534Z
LAST-MODIFIED:20250127T185528Z
UID:1367-1745438400-1745445600@vatican.ee
SUMMARY:"Agulihärrad" Indrek Ojari ja Argo Aadli
DESCRIPTION:
URL:https://vatican.ee/event/aguliharrad-indrek-ojari-ja-argo-aadli/
CATEGORIES:Teatriõhtusöök
ATTACH;FMTTYPE=image/jpeg:https://vatican.ee/wp-content/uploads/2023/12/Aguliharrad-pilt.jpg
END:VEVENT
BEGIN:VEVENT
DTSTART;TZID=Europe/Helsinki:20250403T190000
DTEND;TZID=Europe/Helsinki:20250403T210000
DTSTAMP:20260422T200744
CREATED:20250218T123515Z
LAST-MODIFIED:20250218T123515Z
UID:1598-1743706800-1743714000@vatican.ee
SUMMARY:Ardo Asperk: Naljasiirdamine
DESCRIPTION:Your Content Goes HereYour Content Goes Here
URL:https://vatican.ee/event/ardo-asperk-naljasiirdamine/
CATEGORIES:Teatriõhtusöök
END:VEVENT
BEGIN:VEVENT
DTSTART;TZID=Europe/Helsinki:20250319T200000
DTEND;TZID=Europe/Helsinki:20250319T223000
DTSTAMP:20260422T200744
CREATED:20250120T192103Z
LAST-MODIFIED:20250120T192103Z
UID:1561-1742414400-1742423400@vatican.ee
SUMMARY:Kivirähk "Aabitsa Kukk"
DESCRIPTION:Your Content Goes HereYour Content Goes Here
URL:https://vatican.ee/event/kivirahk-aabitsa-kukk/
CATEGORIES:Teatriõhtusöök
ATTACH;FMTTYPE=image/png:https://vatican.ee/wp-content/uploads/2025/01/19.OKTOOBER-2000.png
END:VEVENT
BEGIN:VEVENT
DTSTART;TZID=Europe/Helsinki:20250123T200000
DTEND;TZID=Europe/Helsinki:20250123T223000
DTSTAMP:20260422T200744
CREATED:20231119T202112Z
LAST-MODIFIED:20241016T215003Z
UID:1352-1737662400-1737671400@vatican.ee
SUMMARY:"Vanuse 50 varjundit"
DESCRIPTION:Your Content Goes HereYour Content Goes Here
URL:https://vatican.ee/event/vanuse-50-varjundit/
CATEGORIES:Teatriõhtusöök
ATTACH;FMTTYPE=image/jpeg:https://vatican.ee/wp-content/uploads/2023/08/Dvinjaninov-uus-pilt-scaled.jpg
END:VEVENT
BEGIN:VEVENT
DTSTART;TZID=Europe/Helsinki:20250108T190000
DTEND;TZID=Europe/Helsinki:20250108T220000
DTSTAMP:20260422T200744
CREATED:20240115T195235Z
LAST-MODIFIED:20241217T083030Z
UID:1377-1736362800-1736373600@vatican.ee
SUMMARY:Välja müüdud! Sepo Seeman "Eesti mees ja tema naine"
DESCRIPTION:Your Content Goes HereYour Content Goes Here
URL:https://vatican.ee/event/sepo-seeman-eesti-mees-ja-tema-poeg-2/
CATEGORIES:Teatriõhtusöök
ATTACH;FMTTYPE=image/png:https://vatican.ee/wp-content/uploads/2023/07/Sepo-pilt.png
END:VEVENT
BEGIN:VEVENT
DTSTART;TZID=Europe/Helsinki:20241228T193000
DTEND;TZID=Europe/Helsinki:20241228T213000
DTSTAMP:20260422T200744
CREATED:20240318T211601Z
LAST-MODIFIED:20241202T145051Z
UID:1404-1735414200-1735421400@vatican.ee
SUMMARY:"Müstiline naistekas" Välja müüdud
DESCRIPTION:Your Content Goes HereYour Content Goes Here
URL:https://vatican.ee/event/mustiline-naistekas-kirsti-timmer-merily-timmer/
CATEGORIES:Teatriõhtusöök
END:VEVENT
BEGIN:VEVENT
DTSTART;TZID=Europe/Helsinki:20241208T170000
DTEND;TZID=Europe/Helsinki:20241208T200000
DTSTAMP:20260422T200744
CREATED:20231225T203500Z
LAST-MODIFIED:20241016T214607Z
UID:1374-1733677200-1733688000@vatican.ee
SUMMARY:Advendietendus "Vanuse 50 varjundit"
DESCRIPTION:
URL:https://vatican.ee/event/vanuse-50-varjundit-andres-dvinjaninov/
CATEGORIES:Teatriõhtusöök
ATTACH;FMTTYPE=image/jpeg:https://vatican.ee/wp-content/uploads/2023/08/Dvinjaninov-uus-pilt-scaled.jpg
END:VEVENT
END:VCALENDAR