BEGIN:VCALENDAR
VERSION:2.0
PRODID:-//Vatican peopaik linna s&uuml;dames - ECPv6.15.20//NONSGML v1.0//EN
CALSCALE:GREGORIAN
METHOD:PUBLISH
X-WR-CALNAME:Vatican peopaik linna s&uuml;dames
X-ORIGINAL-URL:https://vatican.ee
X-WR-CALDESC:Events for Vatican peopaik linna s&uuml;dames
REFRESH-INTERVAL;VALUE=DURATION:PT1H
X-Robots-Tag:noindex
X-PUBLISHED-TTL:PT1H
BEGIN:VTIMEZONE
TZID:Europe/Helsinki
BEGIN:DAYLIGHT
TZOFFSETFROM:+0200
TZOFFSETTO:+0300
TZNAME:EEST
DTSTART:20250330T010000
END:DAYLIGHT
BEGIN:STANDARD
TZOFFSETFROM:+0300
TZOFFSETTO:+0200
TZNAME:EET
DTSTART:20251026T010000
END:STANDARD
BEGIN:DAYLIGHT
TZOFFSETFROM:+0200
TZOFFSETTO:+0300
TZNAME:EEST
DTSTART:20260329T010000
END:DAYLIGHT
BEGIN:STANDARD
TZOFFSETFROM:+0300
TZOFFSETTO:+0200
TZNAME:EET
DTSTART:20261025T010000
END:STANDARD
BEGIN:DAYLIGHT
TZOFFSETFROM:+0200
TZOFFSETTO:+0300
TZNAME:EEST
DTSTART:20270328T010000
END:DAYLIGHT
BEGIN:STANDARD
TZOFFSETFROM:+0300
TZOFFSETTO:+0200
TZNAME:EET
DTSTART:20271031T010000
END:STANDARD
END:VTIMEZONE
BEGIN:VEVENT
DTSTART;TZID=Europe/Helsinki:20260430T180000
DTEND;TZID=Europe/Helsinki:20260430T223000
DTSTAMP:20260422T064153
CREATED:20260319T125045Z
LAST-MODIFIED:20260319T125045Z
UID:1911-1777572000-1777588200@vatican.ee
SUMMARY:Andres Dvinjaninov "Vanuse 50 varjundit"
DESCRIPTION:
URL:https://vatican.ee/event/andres-dvinjaninov-vanuse-50-varjundit-6/
CATEGORIES:Teatriõhtusöök
ATTACH;FMTTYPE=image/jpeg:https://vatican.ee/wp-content/uploads/2023/08/Dvinjaninov-uus-pilt-scaled.jpg
END:VEVENT
END:VCALENDAR