BEGIN:VCALENDAR
VERSION:2.0
PRODID:-//Vatican peopaik linna s&uuml;dames - ECPv6.15.20//NONSGML v1.0//EN
CALSCALE:GREGORIAN
METHOD:PUBLISH
X-WR-CALNAME:Vatican peopaik linna s&uuml;dames
X-ORIGINAL-URL:https://vatican.ee
X-WR-CALDESC:Events for Vatican peopaik linna s&uuml;dames
REFRESH-INTERVAL;VALUE=DURATION:PT1H
X-Robots-Tag:noindex
X-PUBLISHED-TTL:PT1H
BEGIN:VTIMEZONE
TZID:Europe/Helsinki
BEGIN:DAYLIGHT
TZOFFSETFROM:+0200
TZOFFSETTO:+0300
TZNAME:EEST
DTSTART:20230326T010000
END:DAYLIGHT
BEGIN:STANDARD
TZOFFSETFROM:+0300
TZOFFSETTO:+0200
TZNAME:EET
DTSTART:20231029T010000
END:STANDARD
BEGIN:DAYLIGHT
TZOFFSETFROM:+0200
TZOFFSETTO:+0300
TZNAME:EEST
DTSTART:20240331T010000
END:DAYLIGHT
BEGIN:STANDARD
TZOFFSETFROM:+0300
TZOFFSETTO:+0200
TZNAME:EET
DTSTART:20241027T010000
END:STANDARD
BEGIN:DAYLIGHT
TZOFFSETFROM:+0200
TZOFFSETTO:+0300
TZNAME:EEST
DTSTART:20250330T010000
END:DAYLIGHT
BEGIN:STANDARD
TZOFFSETFROM:+0300
TZOFFSETTO:+0200
TZNAME:EET
DTSTART:20251026T010000
END:STANDARD
BEGIN:DAYLIGHT
TZOFFSETFROM:+0200
TZOFFSETTO:+0300
TZNAME:EEST
DTSTART:20260329T010000
END:DAYLIGHT
BEGIN:STANDARD
TZOFFSETFROM:+0300
TZOFFSETTO:+0200
TZNAME:EET
DTSTART:20261025T010000
END:STANDARD
END:VTIMEZONE
BEGIN:VTIMEZONE
TZID:UTC
BEGIN:STANDARD
TZOFFSETFROM:+0000
TZOFFSETTO:+0000
TZNAME:UTC
DTSTART:20230101T000000
END:STANDARD
END:VTIMEZONE
BEGIN:VEVENT
DTSTART;TZID=Europe/Helsinki:20250403T190000
DTEND;TZID=Europe/Helsinki:20250403T210000
DTSTAMP:20260422T224150
CREATED:20250218T123515Z
LAST-MODIFIED:20250218T123515Z
UID:1598-1743706800-1743714000@vatican.ee
SUMMARY:Ardo Asperk: Naljasiirdamine
DESCRIPTION:Your Content Goes HereYour Content Goes Here
URL:https://vatican.ee/event/ardo-asperk-naljasiirdamine/
CATEGORIES:Teatriõhtusöök
END:VEVENT
BEGIN:VEVENT
DTSTART;TZID=Europe/Helsinki:20250319T200000
DTEND;TZID=Europe/Helsinki:20250319T223000
DTSTAMP:20260422T224150
CREATED:20250120T192103Z
LAST-MODIFIED:20250120T192103Z
UID:1561-1742414400-1742423400@vatican.ee
SUMMARY:Kivirähk "Aabitsa Kukk"
DESCRIPTION:Your Content Goes HereYour Content Goes Here
URL:https://vatican.ee/event/kivirahk-aabitsa-kukk/
CATEGORIES:Teatriõhtusöök
ATTACH;FMTTYPE=image/png:https://vatican.ee/wp-content/uploads/2025/01/19.OKTOOBER-2000.png
END:VEVENT
BEGIN:VEVENT
DTSTART;TZID=Europe/Helsinki:20250123T200000
DTEND;TZID=Europe/Helsinki:20250123T223000
DTSTAMP:20260422T224150
CREATED:20231119T202112Z
LAST-MODIFIED:20241016T215003Z
UID:1352-1737662400-1737671400@vatican.ee
SUMMARY:"Vanuse 50 varjundit"
DESCRIPTION:Your Content Goes HereYour Content Goes Here
URL:https://vatican.ee/event/vanuse-50-varjundit/
CATEGORIES:Teatriõhtusöök
ATTACH;FMTTYPE=image/jpeg:https://vatican.ee/wp-content/uploads/2023/08/Dvinjaninov-uus-pilt-scaled.jpg
END:VEVENT
BEGIN:VEVENT
DTSTART;TZID=Europe/Helsinki:20250108T190000
DTEND;TZID=Europe/Helsinki:20250108T220000
DTSTAMP:20260422T224150
CREATED:20240115T195235Z
LAST-MODIFIED:20241217T083030Z
UID:1377-1736362800-1736373600@vatican.ee
SUMMARY:Välja müüdud! Sepo Seeman "Eesti mees ja tema naine"
DESCRIPTION:Your Content Goes HereYour Content Goes Here
URL:https://vatican.ee/event/sepo-seeman-eesti-mees-ja-tema-poeg-2/
CATEGORIES:Teatriõhtusöök
ATTACH;FMTTYPE=image/png:https://vatican.ee/wp-content/uploads/2023/07/Sepo-pilt.png
END:VEVENT
BEGIN:VEVENT
DTSTART;TZID=Europe/Helsinki:20241228T193000
DTEND;TZID=Europe/Helsinki:20241228T213000
DTSTAMP:20260422T224150
CREATED:20240318T211601Z
LAST-MODIFIED:20241202T145051Z
UID:1404-1735414200-1735421400@vatican.ee
SUMMARY:"Müstiline naistekas" Välja müüdud
DESCRIPTION:Your Content Goes HereYour Content Goes Here
URL:https://vatican.ee/event/mustiline-naistekas-kirsti-timmer-merily-timmer/
CATEGORIES:Teatriõhtusöök
END:VEVENT
BEGIN:VEVENT
DTSTART;TZID=Europe/Helsinki:20241208T170000
DTEND;TZID=Europe/Helsinki:20241208T200000
DTSTAMP:20260422T224150
CREATED:20231225T203500Z
LAST-MODIFIED:20241016T214607Z
UID:1374-1733677200-1733688000@vatican.ee
SUMMARY:Advendietendus "Vanuse 50 varjundit"
DESCRIPTION:
URL:https://vatican.ee/event/vanuse-50-varjundit-andres-dvinjaninov/
CATEGORIES:Teatriõhtusöök
ATTACH;FMTTYPE=image/jpeg:https://vatican.ee/wp-content/uploads/2023/08/Dvinjaninov-uus-pilt-scaled.jpg
END:VEVENT
BEGIN:VEVENT
DTSTART;TZID=UTC:20241116T200000
DTEND;TZID=UTC:20241116T230000
DTSTAMP:20260422T224150
CREATED:20230821T155703Z
LAST-MODIFIED:20241110T143324Z
UID:1295-1731787200-1731798000@vatican.ee
SUMMARY:Välja müüdud"Eesti mees ja tema naine"
DESCRIPTION:Laudade broneerimine info@vatican.eeYour Content Goes HereYour Content Goes Here
URL:https://vatican.ee/event/sepo-seeman-eesti-mees-ja-tema-poeg/
CATEGORIES:Teatriõhtusöök
ATTACH;FMTTYPE=image/png:https://vatican.ee/wp-content/uploads/2023/07/Sepo-pilt.png
END:VEVENT
BEGIN:VEVENT
DTSTART;TZID=Europe/Helsinki:20240907T190000
DTEND;TZID=Europe/Helsinki:20240907T220000
DTSTAMP:20260422T224150
CREATED:20240821T211728Z
LAST-MODIFIED:20240821T211728Z
UID:1462-1725735600-1725746400@vatican.ee
SUMMARY:"Sajajutud" Välja müüdud
DESCRIPTION:Your Content Goes HereYour Content Goes Here
URL:https://vatican.ee/event/sajajutud-valja-muudud/
CATEGORIES:Teatriõhtusöök
END:VEVENT
BEGIN:VEVENT
DTSTART;TZID=UTC:20240306T190000
DTEND;TZID=UTC:20240306T230000
DTSTAMP:20260422T224150
CREATED:20231107T171833Z
LAST-MODIFIED:20231127T131123Z
UID:1323-1709751600-1709766000@vatican.ee
SUMMARY:"Mida naised tegelikult tahavad?"
DESCRIPTION:Your Content Goes HereYour Content Goes Here
URL:https://vatican.ee/event/mida-naised-tegelikult-tahavad/
CATEGORIES:Teatriõhtusöök
ATTACH;FMTTYPE=image/png:https://vatican.ee/wp-content/uploads/2023/11/Ruut.png
END:VEVENT
END:VCALENDAR